BEGIN:VCALENDAR
VERSION:2.0
PRODID:-//Hallinckveld - ECPv6.15.18//NONSGML v1.0//EN
CALSCALE:GREGORIAN
METHOD:PUBLISH
X-WR-CALNAME:Hallinckveld
X-ORIGINAL-URL:https://hallinckveld.nl
X-WR-CALDESC:Evenementen voor Hallinckveld
REFRESH-INTERVAL;VALUE=DURATION:PT1H
X-Robots-Tag:noindex
X-PUBLISHED-TTL:PT1H
BEGIN:VTIMEZONE
TZID:UTC
BEGIN:STANDARD
TZOFFSETFROM:+0000
TZOFFSETTO:+0000
TZNAME:UTC
DTSTART:20250101T000000
END:STANDARD
END:VTIMEZONE
BEGIN:VEVENT
DTSTART;TZID=UTC:20260420T080000
DTEND;TZID=UTC:20260423T170000
DTSTAMP:20260423T215246
CREATED:20260331T125654Z
LAST-MODIFIED:20260331T125654Z
UID:4671-1776672000-1776963600@hallinckveld.nl
SUMMARY:Ponydag
DESCRIPTION:In de vakanties organiseren we Ponydagen. Dit is een 1 daags ponykamp waarbij we allemaal leuke dingen gaan doen! De dag begint om 9.00 uur waarbij we de pony’s gaan voeren en verzorgen. We houden een poetswedstrijd maar gaan natuurlijk ook rijden en zelfs voltigeren. De dag is om 17.00 uur weer ten einde en kost 65\,- Euro. Neem zelf je lunchpakketje mee.
URL:https://hallinckveld.nl/event/ponydag-2/
END:VEVENT
BEGIN:VEVENT
DTSTART;TZID=UTC:20260427T080000
DTEND;TZID=UTC:20260427T170000
DTSTAMP:20260423T215246
CREATED:20220411T090903Z
LAST-MODIFIED:20260115T205755Z
UID:3998-1777276800-1777309200@hallinckveld.nl
SUMMARY:Koningsdag - Geen lessen
DESCRIPTION:Maandag 27 april is het Koningsdag en zijn er geen lessen op de manege.
URL:https://hallinckveld.nl/event/koningsdag-geen-lessen/
END:VEVENT
BEGIN:VEVENT
DTSTART;TZID=UTC:20260428T080000
DTEND;TZID=UTC:20260430T170000
DTSTAMP:20260423T215246
CREATED:20260115T205631Z
LAST-MODIFIED:20260115T205631Z
UID:4592-1777363200-1777568400@hallinckveld.nl
SUMMARY:Ponydag
DESCRIPTION:In de vakanties organiseren we Ponydagen. Dit is een 1 daags ponykamp waarbij we allemaal leuke dingen gaan doen! De dag begint om 9.00 uur waarbij we de pony’s gaan voeren en verzorgen. We houden een poetswedstrijd maar gaan natuurlijk ook rijden en zelfs voltigeren. De dag is om 17.00 uur weer ten einde en kost 65\,- Euro. Neem zelf je lunchpakketje mee.
URL:https://hallinckveld.nl/event/ponydag/
END:VEVENT
END:VCALENDAR